  BEGIN:VCALENDAR
VERSION:2.0
PRODID:-//Marktgemeinde PölsOberkurzheim - ECPv5.1.6//NONSGML v1.0//EN
CALSCALE:GREGORIAN
METHOD:PUBLISH
X-WR-CALNAME:Marktgemeinde PölsOberkurzheim
X-ORIGINAL-URL:https://www.poels-oberkurzheim.gv.at
X-WR-CALDESC:Veranstaltungen für Marktgemeinde PölsOberkurzheim
BEGIN:VTIMEZONE
TZID:UTC
BEGIN:STANDARD
TZOFFSETFROM:+0000
TZOFFSETTO:+0000
TZNAME:UTC
DTSTART:20260101T000000
END:STANDARD
END:VTIMEZONE
BEGIN:VEVENT
DTSTART;TZID=UTC:20260105T183000
DTEND;TZID=UTC:20260105T183000
DTSTAMP:20260420T155657
CREATED:20260102T065845Z
LAST-MODIFIED:20260102T163104Z
UID:74205-1767637800-1767637800@www.poels-oberkurzheim.gv.at
SUMMARY:Perchtenlauf der Offenburger Feuerteufel
DESCRIPTION:Perchtenlauf der Offenburger Feuerteufel  \n05.01.2026\nab 18.30 Uhr\nMarktplatz Pöls \n20 Gruppen mit über 400 Perchten \nAb 21.00 Uhr Aftershow-Party im Kultursaal Pöls. \n \n  \n 
URL:https://www.poels-oberkurzheim.gv.at/event/7-perchtenlauf-der-offenburger-feuerteufel/
LOCATION:Marktplatz Pöls
END:VEVENT
END:VCALENDAR