  BEGIN:VCALENDAR
VERSION:2.0
PRODID:-//Marktgemeinde PölsOberkurzheim - ECPv5.1.6//NONSGML v1.0//EN
CALSCALE:GREGORIAN
METHOD:PUBLISH
X-WR-CALNAME:Marktgemeinde PölsOberkurzheim
X-ORIGINAL-URL:https://www.poels-oberkurzheim.gv.at
X-WR-CALDESC:Veranstaltungen für Marktgemeinde PölsOberkurzheim
BEGIN:VTIMEZONE
TZID:UTC
BEGIN:STANDARD
TZOFFSETFROM:+0000
TZOFFSETTO:+0000
TZNAME:UTC
DTSTART:20250101T000000
END:STANDARD
END:VTIMEZONE
BEGIN:VEVENT
DTSTART;TZID=UTC:20251113T130000
DTEND;TZID=UTC:20251113T180000
DTSTAMP:20260420T205815
CREATED:20251107T131805Z
LAST-MODIFIED:20251107T131849Z
UID:155197-1763038800-1763056800@www.poels-oberkurzheim.gv.at
SUMMARY:Jubiläumsfest - 60 Jahre Versicherungsagentur Horn
DESCRIPTION:  \nGegründet 1965 - Gemeinsam stark seit sechs Jahrzehnten. \nWir feiern 60 Jahre Vertrauen\, Sicherheit und Partnerschaft – und möchten diesen besonderen Anlass mit euch gemeinsam zelebrieren! Kommt vorbei\, stoßt mit uns an und feiert mit uns 60 erfolgreiche Jahre voller Begegnungen\, Geschichten und gemeinsamer Wege. \nDonnerstag\, 13. Nov. 2025\n13 - 18 Uhr\, Marktplatz Pöls \nAuf euer Kommen freuen sich Thomas\, Gernot & Gottfried \n*Speis' & Trank bei der Feuerstelle\n*Ausgabe der Jahreskalender 2026 \n 
URL:https://www.poels-oberkurzheim.gv.at/event/jubilaeumsfest-60-jahre-versicherungsagentur-horn/
LOCATION:Marktplatz Pöls
END:VEVENT
END:VCALENDAR