  BEGIN:VCALENDAR
VERSION:2.0
PRODID:-//Marktgemeinde PölsOberkurzheim - ECPv5.1.6//NONSGML v1.0//EN
CALSCALE:GREGORIAN
METHOD:PUBLISH
X-WR-CALNAME:Marktgemeinde PölsOberkurzheim
X-ORIGINAL-URL:https://www.poels-oberkurzheim.gv.at
X-WR-CALDESC:Veranstaltungen für Marktgemeinde PölsOberkurzheim
BEGIN:VTIMEZONE
TZID:UTC
BEGIN:STANDARD
TZOFFSETFROM:+0000
TZOFFSETTO:+0000
TZNAME:UTC
DTSTART:20250101T000000
END:STANDARD
END:VTIMEZONE
BEGIN:VEVENT
DTSTART;TZID=UTC:20250830T190000
DTEND;TZID=UTC:20250830T220000
DTSTAMP:20260420T145035
CREATED:20250617T145002Z
LAST-MODIFIED:20250716T103547Z
UID:149709-1756580400-1756591200@www.poels-oberkurzheim.gv.at
SUMMARY:Music at the Beach: Seiner-Zeit
DESCRIPTION:Austropop\, Rock \,Pop\, Blues \n> Sommer\, Sonne\, Seiner-Zeit < \nAlfred Steiner\, Dominik Kobald\, Andreas Gram\, Thomas Zinner\, Markus Dörflinger\, Simon Schiefer \nInstagram: seinerzeit.official
URL:https://www.poels-oberkurzheim.gv.at/event/music-at-the-beach-seiner-zeit/
LOCATION:Kiosk Biobadeteich Pöls\, 8761 Pöls-Oberkurzheim\, Steiermark\, 8761\, Österreich
END:VEVENT
END:VCALENDAR